BEGIN:VCALENDAR
VERSION:2.0
PRODID:-//RASC New Brunswick - ECPv6.15.20//NONSGML v1.0//EN
CALSCALE:GREGORIAN
METHOD:PUBLISH
X-WR-CALNAME:RASC New Brunswick
X-ORIGINAL-URL:https://rascnb.ca
X-WR-CALDESC:Events for RASC New Brunswick
REFRESH-INTERVAL;VALUE=DURATION:PT1H
X-Robots-Tag:noindex
X-PUBLISHED-TTL:PT1H
BEGIN:VTIMEZONE
TZID:America/Moncton
BEGIN:DAYLIGHT
TZOFFSETFROM:-0400
TZOFFSETTO:-0300
TZNAME:ADT
DTSTART:20230312T060000
END:DAYLIGHT
BEGIN:STANDARD
TZOFFSETFROM:-0300
TZOFFSETTO:-0400
TZNAME:AST
DTSTART:20231105T050000
END:STANDARD
BEGIN:DAYLIGHT
TZOFFSETFROM:-0400
TZOFFSETTO:-0300
TZNAME:ADT
DTSTART:20240310T060000
END:DAYLIGHT
BEGIN:STANDARD
TZOFFSETFROM:-0300
TZOFFSETTO:-0400
TZNAME:AST
DTSTART:20241103T050000
END:STANDARD
BEGIN:DAYLIGHT
TZOFFSETFROM:-0400
TZOFFSETTO:-0300
TZNAME:ADT
DTSTART:20250309T060000
END:DAYLIGHT
BEGIN:STANDARD
TZOFFSETFROM:-0300
TZOFFSETTO:-0400
TZNAME:AST
DTSTART:20251102T050000
END:STANDARD
BEGIN:DAYLIGHT
TZOFFSETFROM:-0400
TZOFFSETTO:-0300
TZNAME:ADT
DTSTART:20260308T060000
END:DAYLIGHT
BEGIN:STANDARD
TZOFFSETFROM:-0300
TZOFFSETTO:-0400
TZNAME:AST
DTSTART:20261101T050000
END:STANDARD
BEGIN:DAYLIGHT
TZOFFSETFROM:-0400
TZOFFSETTO:-0300
TZNAME:ADT
DTSTART:20270314T060000
END:DAYLIGHT
BEGIN:STANDARD
TZOFFSETFROM:-0300
TZOFFSETTO:-0400
TZNAME:AST
DTSTART:20271107T050000
END:STANDARD
END:VTIMEZONE
BEGIN:VEVENT
DTSTART;TZID=America/Moncton:20260717T000000
DTEND;TZID=America/Moncton:20260718T235959
DTSTAMP:20260424T133157
CREATED:20250628T191554Z
LAST-MODIFIED:20260108T003016Z
UID:1120-1784246400-1784419199@rascnb.ca
SUMMARY:Mactaquac Camping and Observing Weekend
DESCRIPTION:Come join members of the Royal Astronomical Society of Canada for our annual Camping and Observing (COW) event at Mactaquac Provincial Park. \n\n\n\nSeveral telescopes will be set-up on Friday and Saturday nights\, to allow the public to view the wonders of the night sky. Weather permitting\, we’ll be able to see various star clusters\, galaxies\, and nebulae. \n\n\n\nPreceding the evening observation sessions\, there will be a presentation where you can learn about the night sky wonders that can be observed that evening. \n\n\n\nDuring Saturday afternoon\, drop by to take a close-up view of the sun through our safe solar-filtered telescopes. Bring along your telescope for a free set and tuning. If you need instructions on operation\, there will be amateur astronomers on hand to guide you through the use and set-up of your telescope. \n\n\n\nFor VisitorsThe star party activities are free and open to the public\, however\, you must have a pass to enter the park. If you want to camp overnight\, you’ll need to book a campsite with the park by calling 1-800-561-0123\, or by reserving online. \n\n\n\nFor Volunteer AstronomersInstructions for registering will be sent via the internal RASC NB mailing list. \n\n\n\nSchedule\n\n\n\n\nFriday\n\n\n\n\n\n\n\n\n\n\n\n8pm“What’s Up?” presentation \n\n\n\nCome learn about the wonders of the night sky you’ll be seeing through the telescopes. \n\n\n\n\n\n\n\n\n\n\n\n\n\nOvernightNight sky viewing with telescopes \n\n\n\nCome look through our telescopes and enjoy the views (weather permitting). \n\n\n\n\n\nSaturday\n\n\n\n\n\n\n\n\n\n\n\n1pm to 3pmSolar Observing \n\n\n\nCome take a close look at our nearest star\, the sun (weather permitting). \n\n\n\n\n\n\n\n\n\n\n\n\n\n1pm to 3pmTelescope Clinic \n\n\n\nBring your telescope for a free set and tuning. \n\n\n\n\n\n\n\n\n\n\n\n\n\n8pm“What’s Up?” presentation \n\n\n\nCome learn about the wonders of the night sky you’ll be seeing through the telescopes. \n\n\n\n\n\n\n\n\n\n\n\n\n\nOvernightNight sky viewing with telescopes \n\n\n\nCome look through our telescopes and enjoy the views (weather permitting). \n\n\n\n\n\n\nPark Location\n\n\n\nMactaquac Provincial Park is located along Route 105\, west of Fredericton\, New Brunswick. \n\n\n\nView Larger Map\n\n\n\nObserving Site\n\n\n\nTo be determined \n\n\n\nVenue
URL:https://rascnb.ca/event/mactaquac-cow/
LOCATION:Mactaquac Provincial Park\, 1256 Route 105\, Mactaquac\, New Brunswick\, E6L 1B5\, Canada
ATTACH;FMTTYPE=image/png:https://rascnb.ca/wp-content/uploads/2025/06/star_party_cow_banner.png
END:VEVENT
BEGIN:VEVENT
DTSTART;TZID=America/Moncton:20260515T000000
DTEND;TZID=America/Moncton:20260516T235959
DTSTAMP:20260424T133157
CREATED:20240223T042023Z
LAST-MODIFIED:20260102T203718Z
UID:181-1778803200-1778975999@rascnb.ca
SUMMARY:Kouchibouguac Spring Star Fest
DESCRIPTION:(Clickez ici pour en français) \n\n\n\n\n\n\nCome join members of the Royal Astronomical Society of Canada for our annual Spring Star Fest at Kouchibouguac National Park. Several telescopes will be set-up on Friday and Saturday nights\, to allow the public to view the wonders of the night sky – no equipment or experience needed. Weather permitting\, we’ll be able to see various star clusters\, galaxies\, nebulae\, as well as the planets Jupiter and Venus. \n\n\n\nDuring Saturday afternoon\, drop by to take a close-up view of the sun through our safe solar-filtered telescopes. If you need help with your telescope\, experienced amateur astronomers will be available to provide you with assistance at the telescope clinic. \n\n\n\nPreceding the evening observation sessions\, there will be a presentation at the Outdoor Theatre where you can learn about the celestial wonders that can be observed that evening. \n\n\n\n\n\n\n\n\n\nImage credit: Paul Owen\n\n\n\n\n\nFor VisitorsThe star party activities are free and open to the public\, however\, regular entrance fees apply. You may purchase a permit at the kiosk of the South Kouchibouguac Campground\, which will remain open until 9PM. If you want to camp overnight\, you’ll need to book a campsite with the park by calling 1-877-RESERVE\, or by reserving online. If you’re not camping\, you may park at the Ryans Rental Centre. \n\n\n\nFor Volunteer AstronomersInstructions for registration will be sent via the internal RASC NB mailing list. \n\n\n\nSchedule\n\n\n\n\nFriday\n\n\n\n\n\n\n\n\n\n\n\n8pm to 9pm“What’s Up?” presentation (in English) \n\n\n\nAt the Outdoor Theatre \n\n\n\nCome learn about the celestial wonders that can be observed that evening. \n\n\n\n\n\n\n\n\n\n\n\n\n\n9:30pm to 11:30pmNight sky viewing with telescopes \n\n\n\nAt site 194 (weather permitting) \n\n\n\nCome look through our telescopes and enjoy the views. \n\n\n\n\n\nSaturday\n\n\n\n\n\n\n\n\n\n\n\n1pm to 3pmSolar Observing \n\n\n\nAt site 194Come take a close look at our nearest star\, the sun. \n\n\n\n\n\n\n\n\n\n\n\n\n\n1pm to 3pmTelescope Clinic \n\n\n\nAt site 194We can assist you with adjusting and using your telescope. \n\n\n\n\n\n\n\n\n\n\n\n\n\n8pm to 9pm“What’s Up?” presentation (in English) \n\n\n\nAt the Outdoor Theatre \n\n\n\nCome learn about the celestial wonders that can be observed that evening. \n\n\n\n\n\n\n\n\n\n\n\n\n\n9:30pm to 11:30pmNight sky viewing with telescopes \n\n\n\nAt site 194 (weather permitting)Come look through our telescopes and enjoy the views. \n\n\n\n\n\n\nObserving Site\n\n\n\n\n\n\n\n\n\n\n\nPark Entrance\n\n\n\nThe park entrance is on Route 117\, after taking exit 74 off of Highway 11. If you arrive late and the Visitor Centre is closed\, the kiosk at the entrance of the South Kouchibouguac campground should remain open until 9 PM. \n\n\n\nView Larger Map\n\n\n\nContact the Organizer\n\n\n\n\nClick here to expandPlease enable JavaScript in your browser to complete this form.Please enable JavaScript in your browser to complete this form.Name *FirstLastEmail *For Which Season? *Not ApplicableSpringFallSubject *Message *Submit  \n\n\n\n\n\n\n\n\nVenue\n\n\n\n\n\n\n\n\n\n\n\n\n\nGala des étoiles du printemps à Kouchibouguac\n\n\n\n\n\nVenez joindre les membres de la Société Royale de l’Astronomie du Canada pour notre Gala des étoiles du printemps au Parc national Kouchibouguac. Plusieurs télescopes seront en place les vendredi et samedi soirs pour permettre au public d’observer les merveilles du ciel nocturne. Si la météo le permet\, on pourra voir des amas d’étoiles\, des galaxies\, des nébuleuses\, ainsi que les planètes Jupiter et Vénus. \n\n\n\nPendant le samedi après-midi\, venez passer voir le soleil agrandi dans nos télescopes spécialement filtrés. Si vous avez besoin de l’aide avec votre télescope\, il y aura des astronomes amateurs qui pourront vous assister. \n\n\n\nPrécédant les sessions d’observation nocturnes\, il y aura une présentation au Théâtre en plein-air où vous pourrez apprendre à propos des merveilles célestes qui seront observables pendant la soirée. \n\n\n\n\n\nCrédit photo: Paul Owen\n\n\n\n\n\nPour les visiteursLes activités du gala d’étoiles sont gratuites et ouvertes au public\, cependant\, les frais d’entrée réguliers s’appliquent. S’il vous faut un permis\, le kiosque à l’entrée du camping Kouchibouguac Sud sera ouvert jusqu’à 21h. S’il vous faut un site pour le camping\, veillez SVP réserver votre site à travers Parcs Canada en téléphonant 1-877-RESERVE\, ou bien en réservant en-ligne. Si vous ne faites pas de camping\, vous pouvez stationner au Centre de location Ryans. \n\n\n\nPour les astronomes bénévolesDes instructions pour s’inscrire seront envoyés par la liste de diffusion interne de la RASC NB. \n\n\n\nHoraire\n\n\n\n\nVendredi\n\n\n\n\n\n\n\n\n\n\n\n20h à 21hPrésentation “What’s Up” (en anglais) \n\n\n\nAu théâtre en plein air \n\n\n\nVenez apprendre à propos des merveilles célestes qui seront observables pendant la soirée. \n\n\n\n\n\n\n\n\n\n\n\n\n\n21h30 à 23h30Observation du ciel étoilé avec télescopes \n\n\n\nAu site 194 (si la météo le permet) \n\n\n\nVenez regarder dans nos télescopes et admirer les objets célestes. \n\n\n\n\n\nSamedi\n\n\n\n\n\n\n\n\n\n\n\n13h à 15hObservation solaire \n\n\n\nAu site 194 (si la météo le permet) \n\n\n\nVenez voir de près l’étoile la plus proche de nous: notre soleil. \n\n\n\n\n\n\n\n\n\n\n\n\n\n13h à 15hAssistance avec télescopes \n\n\n\nAu site 194 \n\n\n\nEmportez votre télescope pour le l’aide avec ajustements et utilisation. \n\n\n\n\n\n\n\n\n\n\n\n\n\n20h à 21hPrésentation “What’s Up” (en français) \n\n\n\nAu théâtre en plein air \n\n\n\nVenez apprendre à propos des merveilles célestes qui seront observables pendant la soirée. \n\n\n\n\n\n\n\n\n\n\n\n\n\n21h30 à 23h30Observation du ciel étoilé avec télescopes \n\n\n\nAu site 194 (si la météo le permet) \n\n\n\nVenez regarder dans nos télescopes et admirer les objets célestes. \n\n\n\n\n\n\nSite d’observation\n\n\n\n\n\n\n\n\n\n\n\nEntrée du parc\n\n\n\nL’entrée du parc est sur la route 117\, située après la sortie 74 de l’autoroute 11. Si vous arrivez tard et le Centre d’accueil est fermé\, le kiosque à l’entrée du camping Kouchibouguac Sud devrait demeurer ouvert jusqu’à 21h. \n\n\n\nView Larger Map\n\n\n\nRejoindre les organisateurs\n\n\n\n\nClickez ici pour aggrandirPlease enable JavaScript in your browser to complete this form.Please enable JavaScript in your browser to complete this form.Votre nom *FirstLastCourriel *Pour quelle saison? *Ne s’applique pasPrintempsAutomneSujet *Message *Soumettre  \n\n\n\n\n\n\n\n\nLieu\n\n\n\n\n\n\n\n\n\n\n\nFeatured image credit: Rick McCharles\, cc-by-2.0
URL:https://rascnb.ca/event/kouchibouguac-spring-star-fest/
CATEGORIES:Star Party
ATTACH;FMTTYPE=image/jpeg:https://rascnb.ca/wp-content/uploads/2024/02/star_party_kouch_featured.jpg
END:VEVENT
BEGIN:VEVENT
DTSTART;TZID=America/Moncton:20260120T190000
DTEND;TZID=America/Moncton:20260120T210000
DTSTAMP:20260424T133157
CREATED:20250118T220447Z
LAST-MODIFIED:20260120T014928Z
UID:926-1768935600-1768942800@rascnb.ca
SUMMARY:January Centre Zoom Meeting
DESCRIPTION:The agenda and the Zoom information will be send to Centre members via email.
URL:https://rascnb.ca/event/january-meeting/
END:VEVENT
BEGIN:VEVENT
DTSTART;TZID=America/Moncton:20251125T190000
DTEND;TZID=America/Moncton:20251125T210000
DTSTAMP:20260424T133157
CREATED:20251124T120756Z
LAST-MODIFIED:20251124T120758Z
UID:1251-1764097200-1764104400@rascnb.ca
SUMMARY:November Presentation Meeting
DESCRIPTION:November presentation meeting. Zoom information and agenda to be sent via the members’ announcements mailing list.
URL:https://rascnb.ca/event/november-presentation-meeting/
END:VEVENT
BEGIN:VEVENT
DTSTART;TZID=America/Moncton:20251115T110000
DTEND;TZID=America/Moncton:20251115T120000
DTSTAMP:20260424T133157
CREATED:20251113T171006Z
LAST-MODIFIED:20251113T171007Z
UID:883-1763204400-1763208000@rascnb.ca
SUMMARY:November Centre Zoom Meeting
DESCRIPTION:This will be a business meeting. The agenda and the Zoom information will be sent to Centre members via email.
URL:https://rascnb.ca/event/november-meeting/
END:VEVENT
BEGIN:VEVENT
DTSTART;TZID=America/Moncton:20251025T110000
DTEND;TZID=America/Moncton:20251025T150000
DTSTAMP:20260424T133157
CREATED:20251021T031157Z
LAST-MODIFIED:20251021T031200Z
UID:1214-1761390000-1761404400@rascnb.ca
SUMMARY:25th Anniversary Meetup
DESCRIPTION:This is the 25th anniversary of RASC NB\, and we are having a casual get-together of current and some former members to celebrate and reminisce. The Rockwood Park Interpretation Centre in Saint John has been booked for Saturday 25 October from 11:00 to 15:00.We will attempt to make this a hybrid meeting with online access via Zoom. Zoom information will be sent via the announcements mailing list. \n\n\n\nThis will be a “bring your own lunch” (BYOL) affair and we recommend you also bring your own mug (astronomy theme if you have one). Keurig coffee and maybe tea will be available. We do not have a liquor licence. The facility has a fridge and a microwave. \n\n\n\nIf you are feeling unwell please do not attend in person.
URL:https://rascnb.ca/event/25th-anniversary-meetup/
LOCATION:Rockwood Park Interpretation Centre\, 10 Fisher Lakes Drive\, Saint John\, New Brunswick\, Canada
CATEGORIES:Meeting
END:VEVENT
BEGIN:VEVENT
DTSTART;TZID=America/Moncton:20251018T000000
DTEND;TZID=America/Moncton:20251018T235959
DTSTAMP:20260424T133157
CREATED:20251008T014845Z
LAST-MODIFIED:20251008T014848Z
UID:838-1760745600-1760831999@rascnb.ca
SUMMARY:Annual Business Meeting
DESCRIPTION:Our annual meeting will be online using Zoom\, starting at 11am.
URL:https://rascnb.ca/event/annual-meeting/
CATEGORIES:Meeting
END:VEVENT
BEGIN:VEVENT
DTSTART;TZID=America/Moncton:20250617T190000
DTEND;TZID=America/Moncton:20250617T210000
DTSTAMP:20260424T133157
CREATED:20250616T203408Z
LAST-MODIFIED:20250616T203410Z
UID:1114-1750186800-1750194000@rascnb.ca
SUMMARY:June Centre Zoom Meeting
DESCRIPTION:Centre Zoom meeting. Zoom details will be sent to members via the announcements mailing list.
URL:https://rascnb.ca/event/june-meeting/
END:VEVENT
BEGIN:VEVENT
DTSTART;TZID=America/Moncton:20250520T190000
DTEND;TZID=America/Moncton:20250520T210000
DTSTAMP:20260424T133157
CREATED:20250513T235155Z
LAST-MODIFIED:20250519T163938Z
UID:1084-1747767600-1747774800@rascnb.ca
SUMMARY:May Centre Zoom Meeting - CANCELLED
DESCRIPTION:The May Centre meeting has been cancelled.
URL:https://rascnb.ca/event/may-meeting/
CATEGORIES:Meeting
END:VEVENT
BEGIN:VEVENT
DTSTART;TZID=America/Moncton:20250415T190000
DTEND;TZID=America/Moncton:20250415T210000
DTSTAMP:20260424T133157
CREATED:20250411T014421Z
LAST-MODIFIED:20250411T014429Z
UID:1002-1744743600-1744750800@rascnb.ca
SUMMARY:April Centre Zoom Meeting
DESCRIPTION:Centre Zoom meeting. Zoom details will be sent to members via the announcements mailing list.
URL:https://rascnb.ca/event/april-meeting/
END:VEVENT
BEGIN:VEVENT
DTSTART;TZID=America/Moncton:20250318T190000
DTEND;TZID=America/Moncton:20250318T210000
DTSTAMP:20260424T133157
CREATED:20250314T011317Z
LAST-MODIFIED:20250314T011419Z
UID:985-1742324400-1742331600@rascnb.ca
SUMMARY:March Centre Zoom Meeting
DESCRIPTION:Centre Zoom meeting. Zoom details will be sent to members via the announcements mailing list.
URL:https://rascnb.ca/event/march-meeting/
CATEGORIES:Meeting
END:VEVENT
BEGIN:VEVENT
DTSTART;TZID=America/Moncton:20250218T190000
DTEND;TZID=America/Moncton:20250218T210000
DTSTAMP:20260424T133157
CREATED:20250208T035327Z
LAST-MODIFIED:20250208T035331Z
UID:954-1739905200-1739912400@rascnb.ca
SUMMARY:February Centre Zoom Meeting
DESCRIPTION:Centre Zoom meeting. Zoom details will be sent to members via the announcements mailing list.
URL:https://rascnb.ca/event/february-meeting/
CATEGORIES:Meeting
END:VEVENT
BEGIN:VEVENT
DTSTART;TZID=America/Moncton:20240924T190000
DTEND;TZID=America/Moncton:20240924T210000
DTSTAMP:20260424T133157
CREATED:20240919T230752Z
LAST-MODIFIED:20240919T232719Z
UID:834-1727204400-1727211600@rascnb.ca
SUMMARY:September Centre Zoom Meeting
DESCRIPTION:The Zoom details will be sent to members via the Centre announcements mailing list.
URL:https://rascnb.ca/event/september-meeting/
END:VEVENT
BEGIN:VEVENT
DTSTART;TZID=America/Moncton:20240408T000000
DTEND;TZID=America/Moncton:20240408T235959
DTSTAMP:20260424T133157
CREATED:20240224T063920Z
LAST-MODIFIED:20240301T051743Z
UID:325-1712534400-1712620799@rascnb.ca
SUMMARY:Total Solar Eclipse
DESCRIPTION:On Monday\, April 8\, 2024\, a total solar eclipse will pass through certain parts of New Brunswick\, Canada. The areas of Fredericton\, Woodstock\, Florenceville-Bristol and Miramichi will all experience 100% totality\, that is\, a complete coverage of the sun. The path of this extraordinary cosmic event will also cross the southern tips of Ontario and Quebec\, western P.E.I. and central Newfoundland. \n\n\n\n\n\n\n\n\n\n\n\nImage credit: Richard Haché
URL:https://rascnb.ca/event/total-solar-eclipse/
CATEGORIES:Special
END:VEVENT
END:VCALENDAR